BEGIN:VCALENDAR
VERSION:2.0
PRODID:-//EPHRAIM CHAMPION - ECPv6.15.20//NONSGML v1.0//EN
CALSCALE:GREGORIAN
METHOD:PUBLISH
X-WR-CALNAME:EPHRAIM CHAMPION
X-ORIGINAL-URL:https://ephraimchampion.com
X-WR-CALDESC:Events for EPHRAIM CHAMPION
REFRESH-INTERVAL;VALUE=DURATION:PT1H
X-Robots-Tag:noindex
X-PUBLISHED-TTL:PT1H
BEGIN:VTIMEZONE
TZID:America/Chicago
BEGIN:DAYLIGHT
TZOFFSETFROM:-0600
TZOFFSETTO:-0500
TZNAME:CDT
DTSTART:20240310T080000
END:DAYLIGHT
BEGIN:STANDARD
TZOFFSETFROM:-0500
TZOFFSETTO:-0600
TZNAME:CST
DTSTART:20241103T070000
END:STANDARD
BEGIN:DAYLIGHT
TZOFFSETFROM:-0600
TZOFFSETTO:-0500
TZNAME:CDT
DTSTART:20250309T080000
END:DAYLIGHT
BEGIN:STANDARD
TZOFFSETFROM:-0500
TZOFFSETTO:-0600
TZNAME:CST
DTSTART:20251102T070000
END:STANDARD
BEGIN:DAYLIGHT
TZOFFSETFROM:-0600
TZOFFSETTO:-0500
TZNAME:CDT
DTSTART:20260308T080000
END:DAYLIGHT
BEGIN:STANDARD
TZOFFSETFROM:-0500
TZOFFSETTO:-0600
TZNAME:CST
DTSTART:20261101T070000
END:STANDARD
END:VTIMEZONE
BEGIN:VTIMEZONE
TZID:America/Halifax
BEGIN:DAYLIGHT
TZOFFSETFROM:-0400
TZOFFSETTO:-0300
TZNAME:ADT
DTSTART:20230312T060000
END:DAYLIGHT
BEGIN:STANDARD
TZOFFSETFROM:-0300
TZOFFSETTO:-0400
TZNAME:AST
DTSTART:20231105T050000
END:STANDARD
BEGIN:DAYLIGHT
TZOFFSETFROM:-0400
TZOFFSETTO:-0300
TZNAME:ADT
DTSTART:20240310T060000
END:DAYLIGHT
BEGIN:STANDARD
TZOFFSETFROM:-0300
TZOFFSETTO:-0400
TZNAME:AST
DTSTART:20241103T050000
END:STANDARD
BEGIN:DAYLIGHT
TZOFFSETFROM:-0400
TZOFFSETTO:-0300
TZNAME:ADT
DTSTART:20250309T060000
END:DAYLIGHT
BEGIN:STANDARD
TZOFFSETFROM:-0300
TZOFFSETTO:-0400
TZNAME:AST
DTSTART:20251102T050000
END:STANDARD
END:VTIMEZONE
BEGIN:VTIMEZONE
TZID:UTC
BEGIN:STANDARD
TZOFFSETFROM:+0000
TZOFFSETTO:+0000
TZNAME:UTC
DTSTART:20230101T000000
END:STANDARD
END:VTIMEZONE
BEGIN:VEVENT
DTSTART;TZID=America/Chicago:20250426T193000
DTEND;TZID=America/Chicago:20250426T213000
DTSTAMP:20260424T051859
CREATED:20250202T205744Z
LAST-MODIFIED:20250202T210021Z
UID:756-1745695800-1745703000@ephraimchampion.com
SUMMARY:WORLD PREMIERE: "Sonder & Ozurie"\, Symphonic Sketch for Chamber Orchestra [Chicago Composers Orchestra]
DESCRIPTION:Beyond thrilled to announce that my Symphonic Sketch for Chamber Orchestra\, entitled “Sonder & Ozurie”\, will be premiered by the Chicago Composers Orchestra (CCO) for their program\, “an evening of world premieres”. It will be an exciting evening of new music!  \n(Stay tuned on my website for more details on what this emotional juggernaut of a piece will be about.)  \nEvent page ticket/link can be accessed here: https://www.chicagocomposersorchestra.org/events/world-premieres\nHope to see you all there!
URL:https://ephraimchampion.com/event/world-premiere-sonder-ozurie-symphonic-sketch-for-chamber-orchestra-chicago-composers-orchestra/
LOCATION:St. James Cathedral\, 65 E Huron St\, Chicago\, IL\, 60611\, United States
CATEGORIES:premiere performance
END:VEVENT
BEGIN:VEVENT
DTSTART;TZID=America/Chicago:20250205T190000
DTEND;TZID=America/Chicago:20250205T210000
DTSTAMP:20260424T051859
CREATED:20240630T003544Z
LAST-MODIFIED:20250202T204457Z
UID:428-1738782000-1738789200@ephraimchampion.com
SUMMARY:WORLD PREMIERE: "Pocketbook"\, Fantasia for Piano and One Percussionist @ Roosevelt University
DESCRIPTION:One of my first compositions ever\, “Pocketbook” (for Piano and One Percussionist)\, will finally be getting its world premiere! This is a MASSIVE piece\, an epic fantasia and I’m so excited to hear the Flannau Duo (Jonathan Hannau and Kyle Flens) annihilate this piece (in the best way possible). The performance will be at Roosevelt University for an alumni concert featuring world premieres by Kyong Mee Choi\, Matthew Mason\, and yours truly! More details are forthcoming—stay tuned beautiful people!
URL:https://ephraimchampion.com/event/tbd-pocketbook-for-piano-and-one-percussionist-world-premiere/
LOCATION:Roosevelt University\, 430 S Michigan Ave\, Chicago\, IL\, 60605\, United States
CATEGORIES:premiere performance
END:VEVENT
BEGIN:VEVENT
DTSTART;TZID=America/Halifax:20241020T150000
DTEND;TZID=America/Halifax:20241020T170000
DTSTAMP:20260424T051859
CREATED:20240930T214435Z
LAST-MODIFIED:20240930T214435Z
UID:708-1729436400-1729443600@ephraimchampion.com
SUMMARY:WORLD PREMIERE: "Vicariously Through You" @ Cali School of Music (Montclair State University)
DESCRIPTION:Another premiere!!! \nFor those of you in the NJ area\, Timothy McAllister and Liz Ames will be premiering my latest work\, “Vicariously Through You”\, at Montclair State University (Cali School of Music) on October 20th @3pm.  \nAs most of you know\, this piece was commissioned for their upcoming Project Encore\, Vol. 2 album\, but this live performance is the first chance to hear it before the release!! The event page link can be found below!
URL:https://ephraimchampion.com/event/world-premiere-vicariously-through-you-cali-school-of-music-montclair-state-university/
LOCATION:Chapin Hall: Jed Leshowitz Recital Hall\, College Ave\, Montclair\, NJ\, 0704\, United States
CATEGORIES:premiere performance
ATTACH;FMTTYPE=image/jpeg:https://ephraimchampion.com/wp-content/uploads/2024/09/IMG_2663.jpg
ORGANIZER;CN="John J. Cali School of Music":MAILTO:kernh@mail.montclair.edu
END:VEVENT
BEGIN:VEVENT
DTSTART;TZID=UTC:20241002T000000
DTEND;TZID=UTC:20241002T235959
DTSTAMP:20260424T051859
CREATED:20240731T021438Z
LAST-MODIFIED:20240822T032316Z
UID:586-1727827200-1727913599@ephraimchampion.com
SUMMARY:WORLD PREMIERE: "Suite for the F Horn and Alto Saxophone" @ University of Michigan School of Music\, Theatre and Dance (Ann Arbor\,  — Walgreen Drama Center/Stamps Auditorium)
DESCRIPTION:Happy to announce that my suite for F horn and Alto Saxophone will receive its world premiere performance! \nAs some of you may know\, the tenor sax and horn edition premiered at the 2023 World Saxophone Congress in Spain. \nThe piece\, however\, was originally written for alto sax instead\, and I’m so happy to announce that world-renowned saxophonist (and dear friend)\, Timothy McAllister\, along with the phenomenal horn player\, Adam Unsworth\, will premiere the original version at Adam’s faculty recital at the University of Michigan! \nSTAY UP-TO-DATE: VIEW EVENT PAGE HERE
URL:https://ephraimchampion.com/event/world-premiere-suite-for-the-f-horn-and-alto-saxophone-university-of-michigan-ann-arbor-school-of-music-theatre-and-dance/
LOCATION:Stamps Auditorium\, Walgreen Drama Center\, 1226 Murfin Ave\, Ann Arbor\, MI\, 48109\, United States
CATEGORIES:premiere performance
ATTACH;FMTTYPE=image/png:https://ephraimchampion.com/wp-content/uploads/2024/07/Screen-Shot-2024-08-21-at-10.12.42-PM.png
END:VEVENT
END:VCALENDAR